BEGIN:VCALENDAR
VERSION:2.0
PRODID:-//wp-events-plugin.com//7.2.3.1//EN
TZID:Pacific/Honolulu
X-WR-TIMEZONE:Pacific/Honolulu
BEGIN:VEVENT
UID:704@legacypartysales.com
DTSTART;TZID=Pacific/Honolulu:20260503T140000
DTEND;TZID=Pacific/Honolulu:20260503T150000
DTSTAMP:20260424T190438Z
URL:https://www.legacypartysales.com/events/bingo/
SUMMARY:May 3rd Customer Appreciation Event
DESCRIPTION:Get ready for a fun time of prizes and giveaways!\n\nRegister b
 elow for one free entry in our drawings! But increase your odds by purchas
 ing more! The more tickets sold\, the more gifts we can give away!\n\nGrab
  your bingo card here: https://mfbc.us/v/br73u4z\n\nlink to join the party
 : https://tupperware.zoom.us/my/legacy\n\nThis is an updated meme with new
  links to get a card and to register\n\n\n\n&nbsp\;\n\n&nbsp\;\n\n&nbsp\;\
 n\n&nbsp\;\n\n&nbsp\;\n\n&nbsp\;\n
CATEGORIES:Training
END:VEVENT
BEGIN:VTIMEZONE
TZID:Pacific/Honolulu
X-LIC-LOCATION:Pacific/Honolulu
BEGIN:STANDARD
DTSTART:20250503T140000
TZOFFSETFROM:-1000
TZOFFSETTO:-1000
TZNAME:HST
END:STANDARD
END:VTIMEZONE
END:VCALENDAR