BEGIN:VCALENDAR
VERSION:2.0
PRODID:-//wp-events-plugin.com//7.2.3.1//EN
TZID:Pacific/Honolulu
X-WR-TIMEZONE:Pacific/Honolulu
BEGIN:VEVENT
UID:558@legacypartysales.com
DTSTART;TZID=Pacific/Honolulu:20230919T140000
DTEND;TZID=Pacific/Honolulu:20230919T151500
DTSTAMP:20230919T224007Z
URL:https://www.legacypartysales.com/events/cheryl-smith/
SUMMARY:Cheryl Smith Sept 19th
DESCRIPTION:Our girlfriend\, Cheryl Smith\, was a Tupperware Consultant\, M
 anager and Business leader before joining the Tupperware Home Office Staff
 .  She then went on to be a sales trainer with several other Direct Sales
  companies.  Now our girlfriend is going to be sharing her party magic wi
 th all of you.  For those of you that know Cheryl\, I know you are excite
 d.  For those of you that are new\, you are in for a TREAT!  Register NO
 W to be a part of this training!\n\n 	Unfortunately\, this will not be rec
 orded\, as it's a paid event.  You will need to participate live\n 	Pleas
 e make sure to register by noon on Sept 19th to insure time to receive the
  link which will be sent to you via email.\n\n\n\n&nbsp\;
END:VEVENT
BEGIN:VTIMEZONE
TZID:Pacific/Honolulu
X-LIC-LOCATION:Pacific/Honolulu
BEGIN:STANDARD
DTSTART:20220919T140000
TZOFFSETFROM:-1000
TZOFFSETTO:-1000
TZNAME:HST
END:STANDARD
END:VTIMEZONE
END:VCALENDAR