BEGIN:VCALENDAR
VERSION:2.0
PRODID:-//wp-events-plugin.com//7.2.3.1//EN
TZID:Pacific/Honolulu
X-WR-TIMEZONE:Pacific/Honolulu
BEGIN:VEVENT
UID:654@legacypartysales.com
DTSTART:20250910T000000Z
DTEND:20250910T030000Z
DTSTAMP:20250903T230132Z
URL:https://www.legacypartysales.com/events/fall-event_slc/
SUMMARY:Back to School Fall Event_Salt Lake City
DESCRIPTION:Register by Sept 4th to included in the recognition and to be i
 n the EARLY BIRD DRAWING.\n\nMake sure to grab your raffle tickets below..
 .great gifts.\n\n 	Blackstone Grill or Laptop (winner chooses)\n 	Large Ve
 ra Bradley Large Tote\n 	Rice Dispenser\n 	and MORE\n\n\n\n&nbsp\;\n\n&nbs
 p\;\n\n&nbsp\;\n\n&nbsp\;\n
CATEGORIES:Training
LOCATION:Tupperware Meeting\, 5284 S. Commerce Dr Suite 254\, Murray\, UT\,
  84107\, United States
GEO:40.657094;-111.899761
X-APPLE-STRUCTURED-LOCATION;VALUE=URI;X-ADDRESS=5284 S. Commerce Dr Suite 2
 54\, Murray\, UT\, 84107\, United States;X-APPLE-RADIUS=100;X-TITLE=Tupper
 ware Meeting:geo:40.657094,-111.899761
END:VEVENT
END:VCALENDAR