BEGIN:VCALENDAR
VERSION:2.0
PRODID:-//wp-events-plugin.com//7.2.3.1//EN
TZID:Pacific/Honolulu
X-WR-TIMEZONE:Pacific/Honolulu
BEGIN:VEVENT
UID:652@legacypartysales.com
DTSTART:20250907T170000Z
DTEND:20250907T200000Z
DTSTAMP:20250903T225957Z
URL:https://www.legacypartysales.com/events/fallevent_fl/
SUMMARY:Back to School Fall Event_Daytona Beach
DESCRIPTION:Please note that his is a date change from the original SAVE TH
 E DATE.\n\nRegister by Sept 4th to included in the recognition and to be i
 n the EARLY BIRD DRAWING.\n\nMake sure to grab your raffle tickets below..
 .great gifts.\n\n 	Blackstone Grill or Laptop (winner chooses)\n 	Large Ve
 ra Bradley Large Tote\n 	Rice Dispenser\n 	and MORE\n\n\n\n&nbsp\;\n\n&nbs
 p\;\n\n&nbsp\;\n\n&nbsp\;\n\n&nbsp\;\n
CATEGORIES:Training
LOCATION:Tina & Chris'\,  586 Margaritaville Ave\, Daytona Beach\, FL\, 321
 24\, United States
GEO:29.22094;-81.135049
X-APPLE-STRUCTURED-LOCATION;VALUE=URI;X-ADDRESS= 586 Margaritaville Ave\, D
 aytona Beach\, FL\, 32124\, United States;X-APPLE-RADIUS=100;X-TITLE=Tina 
 & Chris':geo:29.22094,-81.135049
END:VEVENT
END:VCALENDAR