BEGIN:VCALENDAR
VERSION:2.0
PRODID:-//wp-events-plugin.com//7.2.3.1//EN
TZID:Pacific/Honolulu
X-WR-TIMEZONE:Pacific/Honolulu
BEGIN:VEVENT
UID:697@legacypartysales.com
DTSTART;TZID=Pacific/Honolulu:20260202T160000
DTEND;TZID=Pacific/Honolulu:20260202T171500
DTSTAMP:20260129T182951Z
URL:https://www.legacypartysales.com/events/feb2-2026-early/
SUMMARY:Feb 2 Early: February Launch and January Recognition
DESCRIPTION:Every guest gets a gift! Have a guest and get a gift too!\nhttp
 s://tupperware.zoom.us/my/legacy\npassword: DOUBLE\n\n\n&nbsp\;\n\n&nbsp\;
END:VEVENT
BEGIN:VTIMEZONE
TZID:Pacific/Honolulu
X-LIC-LOCATION:Pacific/Honolulu
BEGIN:STANDARD
DTSTART:20250202T160000
TZOFFSETFROM:-1000
TZOFFSETTO:-1000
TZNAME:HST
END:STANDARD
END:VTIMEZONE
END:VCALENDAR