BEGIN:VCALENDAR
VERSION:2.0
PRODID:-//wp-events-plugin.com//7.2.3.1//EN
TZID:Pacific/Honolulu
X-WR-TIMEZONE:Pacific/Honolulu
BEGIN:VEVENT
UID:263@legacypartysales.com
DTSTART;TZID=Pacific/Honolulu:20200320T120000
DTEND;TZID=Pacific/Honolulu:20200320T170000
DTSTAMP:20200327T235857Z
URL:https://www.legacypartysales.com/events/hawaii-springfest/
SUMMARY:Hawaii Springfest
DESCRIPTION:[et_pb_section fb_built="1" _builder_version="4.0.7"][et_pb_row
  _builder_version="4.0.7"][et_pb_column type="4_4" _builder_version="4.0.7
 "][et_pb_text _builder_version="4.0.7"][/et_pb_text][/et_pb_column][/et_pb
 _row][/et_pb_section]
LOCATION:Honolulu Country Club\, 1690 Ala Puumalu St. \, Honolulu\, HI\, 96
 818\, United States
GEO:21.351024;-157.906165
X-APPLE-STRUCTURED-LOCATION;VALUE=URI;X-ADDRESS=1690 Ala Puumalu St. \, Hon
 olulu\, HI\, 96818\, United States;X-APPLE-RADIUS=100;X-TITLE=Honolulu Cou
 ntry Club:geo:21.351024,-157.906165
END:VEVENT
BEGIN:VTIMEZONE
TZID:Pacific/Honolulu
X-LIC-LOCATION:Pacific/Honolulu
BEGIN:STANDARD
DTSTART:20190321T120000
TZOFFSETFROM:-1000
TZOFFSETTO:-1000
TZNAME:HST
END:STANDARD
END:VTIMEZONE
END:VCALENDAR