BEGIN:VCALENDAR
VERSION:2.0
PRODID:-//wp-events-plugin.com//7.2.3.1//EN
TZID:Pacific/Honolulu
X-WR-TIMEZONE:Pacific/Honolulu
BEGIN:VEVENT
UID:501@legacypartysales.com
DTSTART;TZID=Pacific/Honolulu:20221114T150000
DTEND;TZID=Pacific/Honolulu:20221116T163000
DTSTAMP:20221116T042452Z
URL:https://www.legacypartysales.com/events/hohoholiday/
SUMMARY:Ho Ho Holiday
DESCRIPTION:&nbsp\;\n\n\n\n&nbsp\;\n\nZoom link: https://tupperware.zoom.us
 /j/370159973\n\n 	Monday: December Sneak Peek &amp\; Grinch Theme Party\n 
 	Tuesday: Cash 'n Carry gift ideas/QR code training/Top 10 Nov Month to da
 te Recognition for Personal Sales &amp\; Recruiting\n 	Wednesday: Butter B
 oards/Creating your plan for Black Friday\, Small Biz Saturday\, Sofa Sund
 ay\, Cyber Monday\n\n&nbsp\;\n\n&nbsp\;\n
CATEGORIES:Training
END:VEVENT
BEGIN:VTIMEZONE
TZID:Pacific/Honolulu
X-LIC-LOCATION:Pacific/Honolulu
BEGIN:STANDARD
DTSTART:20211114T150000
TZOFFSETFROM:-1000
TZOFFSETTO:-1000
TZNAME:HST
END:STANDARD
END:VTIMEZONE
END:VCALENDAR