BEGIN:VCALENDAR
VERSION:2.0
PRODID:-//wp-events-plugin.com//7.2.3.1//EN
TZID:Pacific/Honolulu
X-WR-TIMEZONE:Pacific/Honolulu
BEGIN:VEVENT
UID:477@legacypartysales.com
DTSTART;TZID=America/Los_Angeles;VALUE=DATE:20220803
DTEND;TZID=America/Los_Angeles;VALUE=DATE:20220806
DTSTAMP:20220601T190042Z
URL:https://www.legacypartysales.com/events/jubilee-las-vegas/
SUMMARY:Jubilee Las Vegas!
DESCRIPTION:It's been two years since we've had a national conference in Or
 lando.  While I know that many of you longed to get together\, the rising
  cost of travel this year has made attending Jubilee for most something ou
 t of reach.  Tupperware is offering two virtual options as well:  One wi
 th a sample pack and one without.  This virtual event is done from your h
 ome\, connecting to the platform.\n\nAfter discussing this with our Direct
 ors\, we decided to come up with another option for Jubilee.  As most of 
 you know\, our February Director Summit was only offered through a virtual
  event\, but we gathered together and had our summit together.  We had an
  amazing time of learning\, sharing and bonding...and it was a lot more fu
 n than sitting at home alone watching.  SO...we are excited to announce t
 hat we will be partnering with another company and holding a virtual Jubil
 ee experience in LAS VEGAS!  This will allow many of you to be together a
 nd take advantage of the Jubilee training at a fraction of the cost.\n\nOu
 r event will be August 3-5.  We will live-streaming Jubilee in real time.
   Here is our tentative schedule.\nMon-Tue-Wed  August 1-3\n\n\n 	Pre-Ju
 bilee Training on the platform\n 	10amET/9amCT/8amMT/7amPT/4AMHT\n 	We rec
 ommend that you watch the pre-training on Monday\, as Tuesday will most li
 kely be a travel day.\n\nWednesday\, August 3\, 2022\n\n\n 	10:30am PT   
                      Doors Open\n 	11amPT               
                Welcome to the Jubilee PARTY 2022\n 	1:30-3:00PT  
                       Lunch/change into Carnivale clothes\n 	3p
 m-5:30pmPT                   Party of Century- Carnaval!
  for ALL!\n 	6:00pmPT                           Dinner (all)\
 n\n Thursday\, August 4\, 2022\n\n\n 	6:30am-9:30amPT          
     Training Thursday PARTY begins\n 	9:30am-10:30PT             
     Food Break Bfast\n 	10:45-1:30pmPT                 Welcome b
 ack to Training Thursday PARTY\n 	11:30-4:15PT                   
    Break (eat on own and change into dressy)\n 	4:15-6pmPT         
                Award Celebration\n 	Free night/Qualifiers to Dinne
 r\n\n Friday August 5\, 2022\n\n\n 	6:30am-8:30amPT           
    Start the day off with your Region\n 	8:30-9:45amPT            
        Food Break Breakfast\n 	10am-12pmPT                   
  General Sessions\n 	12pm-2pm                           Wrap
  Up/Closing\n\n&nbsp\;\n\n 	Registration is $100 and includes snacks\, 1 l
 unch\, 2 breakfasts and 1 dinner.  There will be 1 dinner for qualifiers 
 as well.\n 	Participants must also register for either the Virtual Party $
 175 (which includes the sample pack) or the Virtual access only $25 (no sa
 mple pack) as you can not participate in the livestream of the event if yo
 u do not pay for that.\n 	Registration opens on June 1st at 12:01 pmPT and
  closes when all 25 spots are taken. \n 	If you prefer to attend the LIVE
  Jubilee in Orlando\, please let me know so that I can insure that you hav
 e a group to sit with\n\n\n\nHere are a list of hotels close to the venue.
   Of course some of you may want to stay with friends/relatives.  Others
  may want to stay at a casino.  However for casinos\, keep in mind a few 
 things:\n\n 	We start so early.  Dealing with traffic can be an issue\n 	
 Parking fees\n 	Will you really have time to gamble and enjoy the buffets\
 n 	You may want to stay close during the week\, and then move to a casino 
 for the weekend!\n\nThe Orleans \n\n 	.5 miles from The Beacon Center\n 	
 4500 W Tropicana Ave\, Las Vegas\, NV 89103\n 	(702) 365-7111\n 	https://w
 ww.orleanscasino.com/\n\n Residence Inn by Marriott Las Vegas South   
 \n\n\n 	1.8 Miles from The Beacon Center.\n 	5875 Dean Martin Dr\, Las Veg
 as\, NV 89118\n 	Phone: (702) 795-7378\n 	https://www.marriott.com/hotels/
 travel/lasri-residence-inn-las-vegas-south/\n\n Staybridge Suites Las Veg
 as\n\n\n 	1.8 Miles from The Beacon Center.\n 	5735 Dean Martin Dr\, Las V
 egas\, NV 89118\n 	Phone: (702) 259-2663\n 	https://www.ihg.com/staybridge
 /hotels/us/en/reservation\n\n Fairfield Inn &amp\; Suites by Marriott Las
  Vegas South\n\n\n 	1.8 Miles from The Beacon Center.\n 	5775 Dean Martin 
 Dr\, Las Vegas\, NV 89118\n 	Phone: (702) 895-9810\n 	https://www.marriott
 .com/hotels/travel/lasfs-fairfield-inn-and-suites-las-vegas-south/\n 	 \n
 \nHoliday Inn Express Las Vegas – South\n\n\n 	1.8 Miles from The Beacon
  Center\n 	5760 Polaris Ave\, Las Vegas\, NV 89118\n 	Phone: (702) 736-009
 8\n 	https://www.ihg.com/holidayinnexpress/hotels/us/en/reservation\n\n C
 ourtyard by Marriott Las Vegas South\n\n\n 	1.8 Miles from The Beacon Cent
 er.\n 	5845 Dean Martin Dr\, Las Vegas\, NV 89118\n 	Phone: (702) 895-7519
 \n 	https://www.marriott.com/hotels/travel/lascy-courtyard-las-vegas-south
 /\n\n          \n 
LOCATION:The Beacon Center\, 4505 W. Hacienda Ave Suite G2\,  Las Vegas\, N
 V\, United States
GEO:36.0923629;-115.20132860000001
X-APPLE-STRUCTURED-LOCATION;VALUE=URI;X-ADDRESS=4505 W. Hacienda Ave Suite 
 G2\,  Las Vegas\, NV\, United States;X-APPLE-RADIUS=100;X-TITLE=The Beacon
  Center:geo:36.0923629,-115.20132860000001
END:VEVENT
BEGIN:VTIMEZONE
TZID:America/Los_Angeles
X-LIC-LOCATION:America/Los_Angeles
BEGIN:DAYLIGHT
DTSTART:20220313T030000
TZOFFSETFROM:-0800
TZOFFSETTO:-0700
TZNAME:PDT
END:DAYLIGHT
END:VTIMEZONE
END:VCALENDAR