BEGIN:VCALENDAR
VERSION:2.0
PRODID:-//wp-events-plugin.com//7.2.3.1//EN
TZID:Pacific/Honolulu
X-WR-TIMEZONE:Pacific/Honolulu
BEGIN:VEVENT
UID:264@legacypartysales.com
DTSTART;TZID=America/Los_Angeles:20200320T100000
DTEND;TZID=America/Los_Angeles:20200320T150000
DTSTAMP:20200327T235804Z
URL:https://www.legacypartysales.com/events/las-vegas-springfest/
SUMMARY:Las Vegas Springfest
DESCRIPTION:[et_pb_section fb_built="1" _builder_version="4.0.7"][et_pb_row
  _builder_version="4.0.7"][et_pb_column type="4_4" _builder_version="4.0.7
 "][et_pb_text _builder_version="4.0.7"]Grab your seat now!\n[/et_pb_text][
 /et_pb_column][/et_pb_row][/et_pb_section]
LOCATION:The Beacon Center\, 4505 W. Hacienda Ave Suite G2\,  Las Vegas\, N
 V\, United States
GEO:36.0923629;-115.20132860000001
X-APPLE-STRUCTURED-LOCATION;VALUE=URI;X-ADDRESS=4505 W. Hacienda Ave Suite 
 G2\,  Las Vegas\, NV\, United States;X-APPLE-RADIUS=100;X-TITLE=The Beacon
  Center:geo:36.0923629,-115.20132860000001
END:VEVENT
BEGIN:VTIMEZONE
TZID:America/Los_Angeles
X-LIC-LOCATION:America/Los_Angeles
BEGIN:DAYLIGHT
DTSTART:20200308T030000
TZOFFSETFROM:-0800
TZOFFSETTO:-0700
TZNAME:PDT
END:DAYLIGHT
END:VTIMEZONE
END:VCALENDAR