BEGIN:VCALENDAR
VERSION:2.0
PRODID:-//wp-events-plugin.com//7.2.3.1//EN
TZID:Pacific/Honolulu
X-WR-TIMEZONE:Pacific/Honolulu
BEGIN:VEVENT
UID:499@legacypartysales.com
DTSTART;TZID=Pacific/Honolulu:20221024T180000
DTEND;TZID=Pacific/Honolulu:20221024T193000
DTSTAMP:20221025T031532Z
URL:https://www.legacypartysales.com/events/leadership-for-leaders-and-fut
 ure-leaders/
SUMMARY:Leadership-For leaders and future leaders
DESCRIPTION:&nbsp\;\n\nJoin us for a special time for Directors\, Managers 
 and Future Managers!\n\nManagers &amp\; Directors: please register on the 
 Leadership Facebook Page\n\nFuture Managers: Please register here!\n\n\n\n
 &nbsp\;\n\n&nbsp\;
END:VEVENT
BEGIN:VTIMEZONE
TZID:Pacific/Honolulu
X-LIC-LOCATION:Pacific/Honolulu
BEGIN:STANDARD
DTSTART:20211024T180000
TZOFFSETFROM:-1000
TZOFFSETTO:-1000
TZNAME:HST
END:STANDARD
END:VTIMEZONE
END:VCALENDAR