BEGIN:VCALENDAR
VERSION:2.0
PRODID:-//wp-events-plugin.com//7.2.3.1//EN
TZID:Pacific/Honolulu
X-WR-TIMEZONE:Pacific/Honolulu
BEGIN:VEVENT
UID:579@legacypartysales.com
DTSTART;TZID=Pacific/Honolulu:20240602T140000
DTEND;TZID=Pacific/Honolulu:20240602T151500
DTSTAMP:20240430T164923Z
URL:https://www.legacypartysales.com/events/may-celebration-host-customer-
 appreciation/
SUMMARY:May Celebration & Host/Customer Appreciation
DESCRIPTION:[et_pb_section fb_built="1" _builder_version="4.24.2" _module_p
 reset="default" global_colors_info="{}"][et_pb_row _builder_version="4.24.
 2" _module_preset="default" global_colors_info="{}"][et_pb_column type="4_
 4" _builder_version="4.24.2" _module_preset="default" global_colors_info="
 {}"][et_pb_text _builder_version="4.24.2" _module_preset="default" global_
 colors_info="{}"]Join us for a very special afternoon of FUN\, Recognition
  and drawings!\nWe will be celebrating your May performance!  Who will be
  our TOP 5?\nInvite your hosts and customer too\, as we will recognize the
  Top Hosts in party sales\, and have special drawings just for them and an
 other just for customers!\nPlease register your hosts and customers using 
 this special jot-form...not here.[/et_pb_text][/et_pb_column][/et_pb_row][
 /et_pb_section][et_pb_section fb_built="1" _builder_version="4.24.2" _modu
 le_preset="default" global_colors_info="{}"][et_pb_row _builder_version="4
 .24.2" _module_preset="default" global_colors_info="{}"][et_pb_column type
 ="4_4" _builder_version="4.24.2" _module_preset="default" global_colors_in
 fo="{}"][et_pb_text _builder_version="4.24.2" _module_preset="default" glo
 bal_colors_info="{}"]https://form.jotform.com/231516619285056[/et_pb_text]
 [/et_pb_column][/et_pb_row][/et_pb_section]
ATTACH;FMTTYPE=image/jpeg:https://i0.wp.com/www.legacypartysales.com/wp-co
 ntent/uploads/2024/04/Screenshot-2024-04-30-at-6.46.39%E2%80%AFAM.png?fit=
 1254%2C1090&ssl=1
END:VEVENT
BEGIN:VTIMEZONE
TZID:Pacific/Honolulu
X-LIC-LOCATION:Pacific/Honolulu
BEGIN:STANDARD
DTSTART:20230603T140000
TZOFFSETFROM:-1000
TZOFFSETTO:-1000
TZNAME:HST
END:STANDARD
END:VTIMEZONE
END:VCALENDAR