BEGIN:VCALENDAR
VERSION:2.0
PRODID:-//wp-events-plugin.com//7.2.3.1//EN
TZID:Pacific/Honolulu
X-WR-TIMEZONE:Pacific/Honolulu
BEGIN:VEVENT
UID:482@legacypartysales.com
DTSTART;TZID=Pacific/Honolulu:20220709T100000
DTEND;TZID=Pacific/Honolulu:20220709T110000
DTSTAMP:20220708T164113Z
URL:https://www.legacypartysales.com/events/modular-mate-training-2/
SUMMARY:Modular Mate Training!
DESCRIPTION:Learn all the details about this product! Maximize this sale!\n
 \n 	How they work in your kitchen\n 	Why EVERY kitchen needs them\n 	How t
 o use them to book parties\n 	How to use them to continue to build your bu
 siness\n\nJoin via Zoom: https://tupperware.zoom.us/my/legacy\n\n\n\n&nbsp
 \;
END:VEVENT
BEGIN:VTIMEZONE
TZID:Pacific/Honolulu
X-LIC-LOCATION:Pacific/Honolulu
BEGIN:STANDARD
DTSTART:20210709T100000
TZOFFSETFROM:-1000
TZOFFSETTO:-1000
TZNAME:HST
END:STANDARD
END:VTIMEZONE
END:VCALENDAR