BEGIN:VCALENDAR
VERSION:2.0
PRODID:-//wp-events-plugin.com//7.2.3.1//EN
TZID:Pacific/Honolulu
X-WR-TIMEZONE:Pacific/Honolulu
BEGIN:VEVENT
UID:315@legacypartysales.com
DTSTART;TZID=Pacific/Honolulu:20200824T180000
DTEND;TZID=Pacific/Honolulu:20200824T191500
DTSTAMP:20200720T022917Z
URL:https://www.legacypartysales.com/events/monday-night-live-august-24/
SUMMARY:Monday Night Live-August 24
DESCRIPTION:Join us for recipes and fun!\n\nOur personalized\, PERMANENT ZO
 OM link: https://tupperware.zoom.us/my/legacy
END:VEVENT
BEGIN:VTIMEZONE
TZID:Pacific/Honolulu
X-LIC-LOCATION:Pacific/Honolulu
BEGIN:STANDARD
DTSTART:20190825T180000
TZOFFSETFROM:-1000
TZOFFSETTO:-1000
TZNAME:HST
END:STANDARD
END:VTIMEZONE
END:VCALENDAR