BEGIN:VCALENDAR
VERSION:2.0
PRODID:-//wp-events-plugin.com//7.2.3.1//EN
TZID:Pacific/Honolulu
X-WR-TIMEZONE:Pacific/Honolulu
BEGIN:VEVENT
UID:573@legacypartysales.com
DTSTART;TZID=America/New_York:20240401T100000
DTEND;TZID=America/New_York:20240405T220000
DTSTAMP:20240404T194734Z
URL:https://www.legacypartysales.com/events/springfest2024/
SUMMARY:FSRC Virtual Springfest 2024
DESCRIPTION:JOIN US FOR OUR VIRTUAL FSRC SPRINGFEST\n&nbsp\;\n\n\n\n&nbsp\;
 \n\n&nbsp\;\n
CATEGORIES:Training
END:VEVENT
BEGIN:VTIMEZONE
TZID:America/New_York
X-LIC-LOCATION:America/New_York
BEGIN:DAYLIGHT
DTSTART:20240310T030000
TZOFFSETFROM:-0500
TZOFFSETTO:-0400
TZNAME:EDT
END:DAYLIGHT
END:VTIMEZONE
END:VCALENDAR