BEGIN:VCALENDAR
VERSION:2.0
PRODID:-//wp-events-plugin.com//7.2.3.1//EN
TZID:Pacific/Honolulu
X-WR-TIMEZONE:Pacific/Honolulu
BEGIN:VEVENT
UID:471@legacypartysales.com
DTSTART;TZID=Pacific/Honolulu:20220428T180000
DTEND;TZID=Pacific/Honolulu:20220428T193000
DTSTAMP:20220417T112438Z
URL:https://www.legacypartysales.com/events/thursday-night-live-april-28th
 /
SUMMARY:Thursday Night Live April 28th
DESCRIPTION:\n\n&nbsp\;\n\nThere will be three ways for you to participate:
 \n\nhttps://tupperware.zoom.us/my/legacy | Meeting ID: 8088591469\n\nOR we
  will be streaming it live in our Facebook group.\n\nOR you can watch the 
 YouTube link replay that is emailed out on Friday.\n\n&nbsp\;
END:VEVENT
BEGIN:VTIMEZONE
TZID:Pacific/Honolulu
X-LIC-LOCATION:Pacific/Honolulu
BEGIN:STANDARD
DTSTART:20210428T180000
TZOFFSETFROM:-1000
TZOFFSETTO:-1000
TZNAME:HST
END:STANDARD
END:VTIMEZONE
END:VCALENDAR