BEGIN:VCALENDAR
VERSION:2.0
PRODID:-//wp-events-plugin.com//7.2.3.1//EN
TZID:Pacific/Honolulu
X-WR-TIMEZONE:Pacific/Honolulu
BEGIN:VEVENT
UID:489@legacypartysales.com
DTSTART;TZID=Pacific/Honolulu:20220825T180000
DTEND;TZID=Pacific/Honolulu:20220825T193000
DTSTAMP:20220823T234444Z
URL:https://www.legacypartysales.com/events/thursday-night-live-aug25/
SUMMARY:Thursday Night Live-Aug 25th
DESCRIPTION:Get your banana ready!  Post a picture of it by Thursday at 4p
 mHT to be in our special drawing!\n\n\n\n&nbsp\;\n\nThere will be three wa
 ys for you to participate:\n\nhttps://tupperware.zoom.us/my/legacy | Meeti
 ng ID: 8088591469\n\nOR we will be streaming it live in our Facebook group
 .\n\nOR you can watch the YouTube link replay that is emailed out on Frida
 y.
END:VEVENT
BEGIN:VTIMEZONE
TZID:Pacific/Honolulu
X-LIC-LOCATION:Pacific/Honolulu
BEGIN:STANDARD
DTSTART:20210825T180000
TZOFFSETFROM:-1000
TZOFFSETTO:-1000
TZNAME:HST
END:STANDARD
END:VTIMEZONE
END:VCALENDAR