BEGIN:VCALENDAR
VERSION:2.0
PRODID:-//wp-events-plugin.com//7.2.3.1//EN
TZID:Pacific/Honolulu
X-WR-TIMEZONE:Pacific/Honolulu
BEGIN:VEVENT
UID:463@legacypartysales.com
DTSTART;TZID=Pacific/Honolulu:20220301T190000
DTEND;TZID=Pacific/Honolulu:20220301T200000
DTSTAMP:20220227T062045Z
URL:https://www.legacypartysales.com/events/virtual-cooking-class-mar-1/
SUMMARY:Virtual Cooking Class-March 1
DESCRIPTION:Invite your customers and make it a party!\nhttps://tupperware.
 zoom.us/my/legacy | Meeting ID: 8088591469\n\nor watch it via Facebook liv
 e at https://www.facebook.com/TupperwareLegacyPartySales\n\n\n\nIf you'd l
 ike to cook along with me\, here are the ingredients you will need:\n\n\n\
 n\n\nEasy Microwave Jambalaya\n\n1 cup un-cooked white rice\nCut up chicke
 n and or/sausage. If you can find Andouille\, use that (as much as you lik
 e)\n1⁄2 teaspoon salt (to taste)\n1 – 14.5 ounce can whole tomatoes\, 
 diced or 1 can of Rotel tomatoes with peppers in it\n1 1/3 cup chicken bro
 th\n1/8 teaspoon red pepper (to taste)\n1 teaspoon basil\n1 teaspoon thyme
 \n1 cup onion\, chopped\n1 bell pepper\, seeded &amp\; chopped\n1 stalk ce
 lery\, chopped\n2 green onions\, sliced\n2 tablespoons fresh Italian (flat
  leaf) parsley\, finely chopped\n\nProducts needed: Stack Cooker\, Measuri
 ng cups and spoons\, SuperSonic Chopper or Cutting Board/Knife\n\n\n\n\n\n
 EASY Tupperware King Cake...A Mardi Gras favorite !\n\n 	2 pkgs. Refrigera
 ted Crescent Rolls-sheets are best\n 	Cinnamon\n 	1 Tablespoon sugar\n 	me
 lted butter\n 	1/2 cup Powdered Sugar mixed with milk to make frosting.\n 
 	Colored Sugar...purple\, green \, yellow\n\nProducts needed: Metal Baking
  Sheet\, Silicone Baking Mat\, Microwave Measuring Cups\, Spatula\, Measur
 ing cups &amp\; spoons\n\n\n\n\n\n\n\n\n
END:VEVENT
BEGIN:VTIMEZONE
TZID:Pacific/Honolulu
X-LIC-LOCATION:Pacific/Honolulu
BEGIN:STANDARD
DTSTART:20210301T190000
TZOFFSETFROM:-1000
TZOFFSETTO:-1000
TZNAME:HST
END:STANDARD
END:VTIMEZONE
END:VCALENDAR