BEGIN:VCALENDAR
VERSION:2.0
PRODID:-//wp-events-plugin.com//7.2.3.1//EN
TZID:Pacific/Honolulu
X-WR-TIMEZONE:Pacific/Honolulu
BEGIN:VEVENT
UID:712@legacypartysales.com
DTSTART;TZID=Pacific/Honolulu:20260427T190000
DTEND;TZID=Pacific/Honolulu:20260427T201500
DTSTAMP:20260422T231912Z
URL:https://www.legacypartysales.com/events/workshop-late/
SUMMARY:April 27th 80th Anniversary workshop-late
DESCRIPTION:\nMark your calendar! Set your alarm! Get ready to strategize t
 o have your biggest month this year...maybe even biggest ever!\n\n\nTips o
 n Booking\, Host Coaching\, Party Ideas\, Sales Generating Ideas and more!
 \n\nLink to join:\nhttps://tupperware.zoom.us/my/legacy\npassword: DOUBLE\
 n\n\n&nbsp\;
END:VEVENT
BEGIN:VTIMEZONE
TZID:Pacific/Honolulu
X-LIC-LOCATION:Pacific/Honolulu
BEGIN:STANDARD
DTSTART:20250427T190000
TZOFFSETFROM:-1000
TZOFFSETTO:-1000
TZNAME:HST
END:STANDARD
END:VTIMEZONE
END:VCALENDAR